Package: AHMassBank Version: 1.2.0 Command: /home/biocbuild/R/R-4.3.1/bin/R CMD INSTALL AHMassBank StartedAt: 2023-11-01 21:04:47 -0000 (Wed, 01 Nov 2023) EndedAt: 2023-11-01 21:05:45 -0000 (Wed, 01 Nov 2023) EllapsedTime: 57.9 seconds RetCode: 0 Status: OK