Package: ADaCGH2 Version: 2.42.0 Command: chmod a+r ADaCGH2 -R && F:\biocbuild\bbs-3.18-bioc\R\bin\R.exe CMD build --keep-empty-dirs --no-resave-data ADaCGH2 StartedAt: 2024-04-15 16:53:12 -0400 (Mon, 15 Apr 2024) EndedAt: 2024-04-15 16:54:41 -0400 (Mon, 15 Apr 2024) EllapsedTime: 88.8 seconds RetCode: 0 Status: OK PackageFile: ADaCGH2_2.42.0.tar.gz PackageFileSize: 950.7 KiB