Package: ADaCGH2 Version: 2.42.0 Command: /home/biocbuild/bbs-3.18-bioc/R/bin/R CMD INSTALL ADaCGH2 StartedAt: 2024-04-15 15:39:36 -0400 (Mon, 15 Apr 2024) EndedAt: 2024-04-15 15:39:59 -0400 (Mon, 15 Apr 2024) EllapsedTime: 23.5 seconds RetCode: 0 Status: OK