Package: ADaCGH2 Version: 2.42.0 Command: /home/biocbuild/bbs-3.18-bioc/R/bin/R CMD check --install=check:ADaCGH2.install-out.txt --library=/home/biocbuild/bbs-3.18-bioc/R/site-library --timings ADaCGH2_2.42.0.tar.gz StartedAt: 2024-04-15 19:54:32 -0400 (Mon, 15 Apr 2024) EndedAt: 2024-04-15 20:01:30 -0400 (Mon, 15 Apr 2024) EllapsedTime: 417.8 seconds RetCode: 0 Status: OK CheckDir: ADaCGH2.Rcheck Warnings: 0