Package: ADaCGH2 Version: 2.42.0 Command: /Library/Frameworks/R.framework/Resources/bin/R CMD INSTALL ADaCGH2 StartedAt: 2024-04-15 16:16:33 -0400 (Mon, 15 Apr 2024) EndedAt: 2024-04-15 16:17:25 -0400 (Mon, 15 Apr 2024) EllapsedTime: 52.4 seconds RetCode: 0 Status: OK