Package: ADaCGH2 Version: 2.42.0 Command: /Library/Frameworks/R.framework/Resources/bin/R CMD check --install=check:ADaCGH2.install-out.txt --library=/Library/Frameworks/R.framework/Resources/library --no-vignettes --timings ADaCGH2_2.42.0.tar.gz StartedAt: 2024-04-15 23:03:57 -0400 (Mon, 15 Apr 2024) EndedAt: 2024-04-15 23:11:25 -0400 (Mon, 15 Apr 2024) EllapsedTime: 447.9 seconds RetCode: 0 Status: OK CheckDir: ADaCGH2.Rcheck Warnings: 0