Package: ADaCGH2 Version: 2.42.0 Command: rm -rf ADaCGH2.buildbin-libdir && mkdir ADaCGH2.buildbin-libdir && /Users/biocbuild/BBS/utils/build-universal.sh ADaCGH2_2.42.0.tar.gz /Library/Frameworks/R.framework/Resources/bin/R ADaCGH2.buildbin-libdir StartedAt: 2024-03-04 00:28:08 -0500 (Mon, 04 Mar 2024) EndedAt: 2024-03-04 00:28:50 -0500 (Mon, 04 Mar 2024) EllapsedTime: 41.8 seconds RetCode: 0 Status: OK PackageFile: ADaCGH2_2.42.0.tgz PackageFileSize: 1.308 MiB