Package: ADaCGH2 Version: 2.42.0 Command: /home/biocbuild/R/R-4.3.1/bin/R CMD build --keep-empty-dirs --no-resave-data ADaCGH2 StartedAt: 2023-11-01 22:11:43 -0000 (Wed, 01 Nov 2023) EndedAt: 2023-11-01 22:14:19 -0000 (Wed, 01 Nov 2023) EllapsedTime: 156.2 seconds RetCode: 0 Status: OK PackageFile: ADaCGH2_2.42.0.tar.gz PackageFileSize: 1.176 MiB