Package: ADAMgui Version: 1.18.0 Command: rm -rf ADAMgui.buildbin-libdir && mkdir ADAMgui.buildbin-libdir && /Users/biocbuild/BBS/utils/build-universal.sh ADAMgui_1.18.0.tar.gz /Library/Frameworks/R.framework/Resources/bin/R ADAMgui.buildbin-libdir StartedAt: 2024-04-16 10:57:01 -0400 (Tue, 16 Apr 2024) EndedAt: 2024-04-16 10:58:03 -0400 (Tue, 16 Apr 2024) EllapsedTime: 62.1 seconds RetCode: 0 Status: OK PackageFile: ADAMgui_1.18.0.tgz PackageFileSize: 917.2 KiB