Package: ADAMgui Version: 1.18.0 Command: /home/biocbuild/R/R-4.3.1/bin/R CMD check --install=check:ADAMgui.install-out.txt --library=/home/biocbuild/R/R-4.3.1/site-library --no-vignettes --timings ADAMgui_1.18.0.tar.gz StartedAt: 2023-11-02 08:11:24 -0000 (Thu, 02 Nov 2023) EndedAt: 2023-11-02 08:16:07 -0000 (Thu, 02 Nov 2023) EllapsedTime: 283.3 seconds RetCode: 0 Status: OK CheckDir: ADAMgui.Rcheck Warnings: 0