Package: ACE Version: 1.20.0 Command: /home/biocbuild/R/R-4.3.1/bin/R CMD build --keep-empty-dirs --no-resave-data ACE StartedAt: 2023-11-01 22:11:43 -0000 (Wed, 01 Nov 2023) EndedAt: 2023-11-01 22:13:02 -0000 (Wed, 01 Nov 2023) EllapsedTime: 79.1 seconds RetCode: 0 Status: OK PackageFile: ACE_1.20.0.tar.gz PackageFileSize: 2.401 MiB