Package: arrays Version: 1.26.0 Command: chmod a+r arrays -R && F:\biocbuild\bbs-3.17-bioc\R\bin\R.exe CMD build --keep-empty-dirs --no-resave-data arrays StartedAt: 2023-10-13 11:06:08 -0400 (Fri, 13 Oct 2023) EndedAt: 2023-10-13 11:06:37 -0400 (Fri, 13 Oct 2023) EllapsedTime: 28.8 seconds RetCode: 0 Status: OK PackageFile: arrays_1.26.0.tar.gz PackageFileSize: 9.64 MiB