Package: updateObject Version: 1.3.2 Command: /home/biocbuild/bbs-3.17-bioc/R/bin/R CMD check --install=check:updateObject.install-out.txt --library=/home/biocbuild/bbs-3.17-bioc/R/site-library --timings updateObject_1.3.2.tar.gz StartedAt: 2023-04-12 00:19:51 -0400 (Wed, 12 Apr 2023) EndedAt: 2023-04-12 00:20:48 -0400 (Wed, 12 Apr 2023) EllapsedTime: 57.3 seconds RetCode: 1 Status: ERROR CheckDir: updateObject.Rcheck Warnings: NA