Package: sscore Version: 1.71.0 Command: /home/biocbuild/bbs-3.17-bioc/R/bin/R CMD check --install=check:sscore.install-out.txt --library=/home/biocbuild/bbs-3.17-bioc/R/site-library --timings sscore_1.71.0.tar.gz StartedAt: 2023-04-12 09:41:13 -0400 (Wed, 12 Apr 2023) EndedAt: 2023-04-12 09:47:58 -0400 (Wed, 12 Apr 2023) EllapsedTime: 405.1 seconds RetCode: 1 Status: ERROR CheckDir: sscore.Rcheck Warnings: NA