Package: skewr Version: 1.31.0 Command: /home/biocbuild/bbs-3.17-bioc/R/bin/R CMD build --keep-empty-dirs --no-resave-data skewr StartedAt: 2023-04-12 04:13:32 -0400 (Wed, 12 Apr 2023) EndedAt: 2023-04-12 04:15:58 -0400 (Wed, 12 Apr 2023) EllapsedTime: 146.5 seconds RetCode: 0 Status: OK PackageFile: skewr_1.31.0.tar.gz PackageFileSize: 848.7 KiB