Package: singscore Version: 1.19.1 Command: /home/biocbuild/bbs-3.17-bioc/R/bin/R CMD INSTALL singscore StartedAt: 2023-04-11 15:23:15 -0400 (Tue, 11 Apr 2023) EndedAt: 2023-04-11 15:23:45 -0400 (Tue, 11 Apr 2023) EllapsedTime: 30.2 seconds RetCode: 0 Status: OK