Package: singscore Version: 1.19.1 Command: /home/biocbuild/bbs-3.17-bioc/R/bin/R CMD build --keep-empty-dirs --no-resave-data singscore StartedAt: 2023-04-11 18:01:12 -0400 (Tue, 11 Apr 2023) EndedAt: 2023-04-11 18:02:19 -0400 (Tue, 11 Apr 2023) EllapsedTime: 67.0 seconds RetCode: 0 Status: OK PackageFile: singscore_1.19.1.tar.gz PackageFileSize: 2.809 MiB