Package: sights Version: 1.25.0 Command: /home/biocbuild/bbs-3.17-bioc/R/bin/R CMD build --keep-empty-dirs --no-resave-data sights StartedAt: 2023-04-12 04:11:47 -0400 (Wed, 12 Apr 2023) EndedAt: 2023-04-12 04:12:24 -0400 (Wed, 12 Apr 2023) EllapsedTime: 37.2 seconds RetCode: 0 Status: OK PackageFile: sights_1.25.0.tar.gz PackageFileSize: 5.103 MiB