Package: shinyepico Version: 1.7.1 Command: /home/biocbuild/bbs-3.17-bioc/R/bin/R CMD build --keep-empty-dirs --no-resave-data shinyepico StartedAt: 2023-04-11 17:59:22 -0400 (Tue, 11 Apr 2023) EndedAt: 2023-04-11 17:59:31 -0400 (Tue, 11 Apr 2023) EllapsedTime: 8.3 seconds RetCode: 0 Status: OK PackageFile: shinyepico_1.7.1.tar.gz PackageFileSize: 2.232 MiB