Package: scoreInvHap Version: 1.21.0 Command: /home/biocbuild/bbs-3.17-bioc/R/bin/R CMD build --keep-empty-dirs --no-resave-data scoreInvHap StartedAt: 2023-04-11 17:54:16 -0400 (Tue, 11 Apr 2023) EndedAt: 2023-04-11 17:55:33 -0400 (Tue, 11 Apr 2023) EllapsedTime: 76.9 seconds RetCode: 0 Status: OK PackageFile: scoreInvHap_1.21.0.tar.gz PackageFileSize: 1.016 MiB