git_url: https://git.bioconductor.org/packages/sangerseqR git_branch: devel git_last_commit: 77ade5e git_last_commit_date: 2023-03-07 23:48:14 -0400 (Tue, 07 Mar 2023) Package: sangerseqR Version: 1.35.2 Maintainer: Jonathon Hill MaintainerEmail: jhill at byu.edu