Package: roar Version: 1.35.0 Command: /home/biocbuild/bbs-3.17-bioc/R/bin/R CMD build --keep-empty-dirs --no-resave-data roar StartedAt: 2023-04-12 03:59:18 -0400 (Wed, 12 Apr 2023) EndedAt: 2023-04-12 04:01:07 -0400 (Wed, 12 Apr 2023) EllapsedTime: 109.4 seconds RetCode: 0 Status: OK PackageFile: roar_1.35.0.tar.gz PackageFileSize: 713.4 KiB