Package: rifiComparative Version: 0.99.5 Command: /home/biocbuild/bbs-3.17-bioc/R/bin/R CMD INSTALL rifiComparative StartedAt: 2023-04-11 15:13:42 -0400 (Tue, 11 Apr 2023) EndedAt: 2023-04-11 15:14:12 -0400 (Tue, 11 Apr 2023) EllapsedTime: 29.9 seconds RetCode: 0 Status: OK