Package: rifiComparative Version: 0.99.5 Command: /home/biocbuild/bbs-3.17-bioc/R/bin/R CMD build --keep-empty-dirs --no-resave-data rifiComparative StartedAt: 2023-04-11 17:43:06 -0400 (Tue, 11 Apr 2023) EndedAt: 2023-04-11 17:48:58 -0400 (Tue, 11 Apr 2023) EllapsedTime: 351.8 seconds RetCode: 0 Status: OK PackageFile: rifiComparative_0.99.5.tar.gz PackageFileSize: 3.134 MiB