git_url: https://git.bioconductor.org/packages/rhdf5filters git_branch: devel git_last_commit: abf416b git_last_commit_date: 2023-03-24 05:33:29 -0400 (Fri, 24 Mar 2023) Package: rhdf5filters Version: 1.11.2 Maintainer: Mike Smith MaintainerEmail: grimbough at gmail.com