Package: reconsi Version: 1.11.0 Command: /home/biocbuild/bbs-3.17-bioc/R/bin/R CMD build --keep-empty-dirs --no-resave-data reconsi StartedAt: 2023-04-12 03:53:47 -0400 (Wed, 12 Apr 2023) EndedAt: 2023-04-12 03:55:07 -0400 (Wed, 12 Apr 2023) EllapsedTime: 80.3 seconds RetCode: 0 Status: OK PackageFile: reconsi_1.11.0.tar.gz PackageFileSize: 117.8 KiB