Package: rTRM Version: 1.37.0 Command: /home/biocbuild/bbs-3.17-bioc/R/bin/R CMD INSTALL rTRM StartedAt: 2023-04-11 15:11:09 -0400 (Tue, 11 Apr 2023) EndedAt: 2023-04-11 15:11:26 -0400 (Tue, 11 Apr 2023) EllapsedTime: 16.2 seconds RetCode: 0 Status: OK