git_url: https://git.bioconductor.org/packages/qmtools git_branch: devel git_last_commit: 45ad15e git_last_commit_date: 2023-04-03 09:46:24 -0400 (Mon, 03 Apr 2023) Package: qmtools Version: 1.3.2 Maintainer: Jaehyun Joo MaintainerEmail: jaehyunjoo at outlook.com