Package: pvac Version: 1.47.0 Command: /home/biocbuild/bbs-3.17-bioc/R/bin/R CMD build --keep-empty-dirs --no-resave-data pvac StartedAt: 2023-04-12 03:49:00 -0400 (Wed, 12 Apr 2023) EndedAt: 2023-04-12 03:49:53 -0400 (Wed, 12 Apr 2023) EllapsedTime: 53.2 seconds RetCode: 0 Status: OK PackageFile: pvac_1.47.0.tar.gz PackageFileSize: 128 KiB