Package: polyester Version: 1.35.0 Command: /home/biocbuild/bbs-3.17-bioc/R/bin/R CMD build --keep-empty-dirs --no-resave-data polyester StartedAt: 2023-04-11 17:31:17 -0400 (Tue, 11 Apr 2023) EndedAt: 2023-04-11 17:31:50 -0400 (Tue, 11 Apr 2023) EllapsedTime: 33.2 seconds RetCode: 0 Status: OK PackageFile: polyester_1.35.0.tar.gz PackageFileSize: 1.814 MiB