Package: philr Version: 1.25.3 Command: /home/biocbuild/bbs-3.17-bioc/R/bin/R CMD INSTALL philr StartedAt: 2023-04-11 15:16:19 -0400 (Tue, 11 Apr 2023) EndedAt: 2023-04-11 15:16:27 -0400 (Tue, 11 Apr 2023) EllapsedTime: 8.2 seconds RetCode: 0 Status: OK