Package: padma Version: 1.9.0 Command: /home/biocbuild/bbs-3.17-bioc/R/bin/R CMD build --keep-empty-dirs --no-resave-data padma StartedAt: 2023-04-12 03:34:34 -0400 (Wed, 12 Apr 2023) EndedAt: 2023-04-12 03:36:51 -0400 (Wed, 12 Apr 2023) EllapsedTime: 136.5 seconds RetCode: 0 Status: OK PackageFile: padma_1.9.0.tar.gz PackageFileSize: 1.096 MiB