Package: omicsViewer Version: 1.3.3 Command: /home/biocbuild/bbs-3.17-bioc/R/bin/R CMD INSTALL omicsViewer StartedAt: 2023-04-11 15:39:30 -0400 (Tue, 11 Apr 2023) EndedAt: 2023-04-11 15:39:59 -0400 (Tue, 11 Apr 2023) EllapsedTime: 29.1 seconds RetCode: 0 Status: OK