Package: normalize450K Version: 1.27.0 Command: /home/biocbuild/bbs-3.17-bioc/R/bin/R CMD INSTALL normalize450K StartedAt: 2023-04-11 15:07:10 -0400 (Tue, 11 Apr 2023) EndedAt: 2023-04-11 15:07:26 -0400 (Tue, 11 Apr 2023) EllapsedTime: 16.2 seconds RetCode: 0 Status: OK