Package: mistyR Version: 1.7.2 Command: /home/biocbuild/bbs-3.17-bioc/R/bin/R CMD build --keep-empty-dirs --no-resave-data mistyR StartedAt: 2023-04-12 03:20:20 -0400 (Wed, 12 Apr 2023) EndedAt: 2023-04-12 03:22:18 -0400 (Wed, 12 Apr 2023) EllapsedTime: 118.5 seconds RetCode: 0 Status: OK PackageFile: mistyR_1.7.2.tar.gz PackageFileSize: 2.909 MiB