Package: mimager Version: 1.23.0 Command: /home/biocbuild/bbs-3.17-bioc/R/bin/R CMD build --keep-empty-dirs --no-resave-data mimager StartedAt: 2023-04-11 17:02:44 -0400 (Tue, 11 Apr 2023) EndedAt: 2023-04-11 17:03:38 -0400 (Tue, 11 Apr 2023) EllapsedTime: 53.7 seconds RetCode: 0 Status: OK PackageFile: mimager_1.23.0.tar.gz PackageFileSize: 651.6 KiB