Package: methimpute Version: 1.21.0 Command: /home/biocbuild/bbs-3.17-bioc/R/bin/R CMD build --keep-empty-dirs --no-resave-data methimpute StartedAt: 2023-04-12 03:15:54 -0400 (Wed, 12 Apr 2023) EndedAt: 2023-04-12 03:18:22 -0400 (Wed, 12 Apr 2023) EllapsedTime: 148.5 seconds RetCode: 0 Status: OK PackageFile: methimpute_1.21.0.tar.gz PackageFileSize: 1.259 MiB