Package: metaMS Version: 1.35.0 Command: /home/biocbuild/bbs-3.17-bioc/R/bin/R CMD build --keep-empty-dirs --no-resave-data metaMS StartedAt: 2023-04-12 03:15:10 -0400 (Wed, 12 Apr 2023) EndedAt: 2023-04-12 03:16:10 -0400 (Wed, 12 Apr 2023) EllapsedTime: 59.2 seconds RetCode: 0 Status: OK PackageFile: metaMS_1.35.0.tar.gz PackageFileSize: 3.548 MiB