Package: mbQTL Version: 0.99.6 Command: /home/biocbuild/bbs-3.17-bioc/R/bin/R CMD INSTALL mbQTL StartedAt: 2023-04-12 01:59:19 -0400 (Wed, 12 Apr 2023) EndedAt: 2023-04-12 01:59:33 -0400 (Wed, 12 Apr 2023) EllapsedTime: 14.2 seconds RetCode: 0 Status: OK