Package: ideal Version: 1.23.0 Command: /home/biocbuild/bbs-3.17-bioc/R/bin/R CMD INSTALL ideal StartedAt: 2023-04-11 15:35:15 -0400 (Tue, 11 Apr 2023) EndedAt: 2023-04-11 15:36:07 -0400 (Tue, 11 Apr 2023) EllapsedTime: 52.5 seconds RetCode: 0 Status: OK