git_url: https://git.bioconductor.org/packages/ideal git_branch: devel git_last_commit: 11a9293 git_last_commit_date: 2023-01-05 09:07:52 -0400 (Thu, 05 Jan 2023) Package: ideal Version: 1.23.0 Maintainer: Federico Marini MaintainerEmail: marinif at uni-mainz.de