Package: hpar Version: 1.41.1 Command: /home/biocbuild/bbs-3.17-bioc/R/bin/R CMD build --keep-empty-dirs --no-resave-data hpar StartedAt: 2023-04-12 03:04:04 -0400 (Wed, 12 Apr 2023) EndedAt: 2023-04-12 03:04:51 -0400 (Wed, 12 Apr 2023) EllapsedTime: 46.2 seconds RetCode: 0 Status: OK PackageFile: hpar_1.41.1.tar.gz PackageFileSize: 873.1 KiB