Package: gsean Version: 1.19.0 Command: /home/biocbuild/bbs-3.17-bioc/R/bin/R CMD check --install=check:gsean.install-out.txt --library=/home/biocbuild/bbs-3.17-bioc/R/site-library --timings gsean_1.19.0.tar.gz StartedAt: 2023-04-12 06:41:56 -0400 (Wed, 12 Apr 2023) EndedAt: 2023-04-12 06:45:51 -0400 (Wed, 12 Apr 2023) EllapsedTime: 235.7 seconds RetCode: 1 Status: ERROR CheckDir: gsean.Rcheck Warnings: NA