Package: gsean Version: 1.19.0 Command: /home/biocbuild/bbs-3.17-bioc/R/bin/R CMD INSTALL gsean StartedAt: 2023-04-11 15:31:19 -0400 (Tue, 11 Apr 2023) EndedAt: 2023-04-11 15:31:44 -0400 (Tue, 11 Apr 2023) EllapsedTime: 25.0 seconds RetCode: 0 Status: OK