Package: ggbio Version: 1.47.0 Command: /home/biocbuild/bbs-3.17-bioc/R/bin/R CMD build --keep-empty-dirs --no-resave-data ggbio StartedAt: 2023-04-11 16:37:59 -0400 (Tue, 11 Apr 2023) EndedAt: 2023-04-11 16:42:31 -0400 (Tue, 11 Apr 2023) EllapsedTime: 271.4 seconds RetCode: 0 Status: OK PackageFile: ggbio_1.47.0.tar.gz PackageFileSize: 3.102 MiB