Package: gemini Version: 1.13.0 Command: /home/biocbuild/bbs-3.17-bioc/R/bin/R CMD build --keep-empty-dirs --no-resave-data gemini StartedAt: 2023-04-11 16:34:34 -0400 (Tue, 11 Apr 2023) EndedAt: 2023-04-11 16:35:00 -0400 (Tue, 11 Apr 2023) EllapsedTime: 25.9 seconds RetCode: 0 Status: OK PackageFile: gemini_1.13.0.tar.gz PackageFileSize: 4.064 MiB