Package: gcatest Version: 1.29.1 Command: /home/biocbuild/bbs-3.17-bioc/R/bin/R CMD INSTALL gcatest StartedAt: 2023-04-12 01:34:04 -0400 (Wed, 12 Apr 2023) EndedAt: 2023-04-12 01:34:18 -0400 (Wed, 12 Apr 2023) EllapsedTime: 13.5 seconds RetCode: 1 Status: ERROR