############################################################################## ############################################################################## ### ### Running command: ### ### /home/biocbuild/bbs-3.17-bioc/R/bin/R CMD build --keep-empty-dirs --no-resave-data gcatest ### ############################################################################## ############################################################################## * checking for file ‘gcatest/DESCRIPTION’ ... OK * preparing ‘gcatest’: * checking DESCRIPTION meta-information ... OK * cleaning src * installing the package to build vignettes ----------------------------------- ERROR: dependency ‘lfa’ is not available for package ‘gcatest’ * removing ‘/tmp/Rtmp6q89eO/Rinst3a78a229cbc84e/gcatest’ ----------------------------------- ERROR: package installation failed