Package: flagme Version: 1.55.1 Command: /home/biocbuild/bbs-3.17-bioc/R/bin/R CMD build --keep-empty-dirs --no-resave-data flagme StartedAt: 2023-04-11 16:31:12 -0400 (Tue, 11 Apr 2023) EndedAt: 2023-04-11 16:34:20 -0400 (Tue, 11 Apr 2023) EllapsedTime: 188.7 seconds RetCode: 0 Status: OK PackageFile: flagme_1.55.1.tar.gz PackageFileSize: 418.7 KiB