Package: exomePeak2 Version: 1.11.0 Command: /home/biocbuild/bbs-3.17-bioc/R/bin/R CMD INSTALL exomePeak2 StartedAt: 2023-04-12 01:48:18 -0400 (Wed, 12 Apr 2023) EndedAt: 2023-04-12 01:49:17 -0400 (Wed, 12 Apr 2023) EllapsedTime: 59.2 seconds RetCode: 0 Status: OK